BEGIN:VCALENDAR
VERSION:2.0
PRODID:-//SMPIT Al Auliya Balikpapan - ECPv6.3.4//NONSGML v1.0//EN
CALSCALE:GREGORIAN
METHOD:PUBLISH
X-WR-CALNAME:SMPIT Al Auliya Balikpapan
X-ORIGINAL-URL:https://smpit.al-auliya.sch.id
X-WR-CALDESC:Events for SMPIT Al Auliya Balikpapan
REFRESH-INTERVAL;VALUE=DURATION:PT1H
X-Robots-Tag:noindex
X-PUBLISHED-TTL:PT1H
BEGIN:VTIMEZONE
TZID:Asia/Shanghai
BEGIN:STANDARD
TZOFFSETFROM:+0800
TZOFFSETTO:+0800
TZNAME:CST
DTSTART:20230101T000000
END:STANDARD
END:VTIMEZONE
BEGIN:VEVENT
DTSTART;TZID=Asia/Shanghai:20231228T080000
DTEND;TZID=Asia/Shanghai:20231230T150000
DTSTAMP:20260423T233813
CREATED:20240104T155814Z
LAST-MODIFIED:20240104T155825Z
UID:5576-1703750400-1703948400@smpit.al-auliya.sch.id
SUMMARY:Rapat Kerja Guru SMPIT AL Auliya Balikpapan
DESCRIPTION:????????????????????????????????????????????????????\, ???????????????????? ???????????????????????????????????????? ???????????????????? ???????????????? ???????????????????????????????? ???????? ???????????????????????? ???????????????????????????????????????? ???????????????????????????????? ????????????????????????????-???????????????????????????? ???????????????????????????????? ???????????????? ???????????????? ???????????????????????????????? ???????? ???????????????????????????????? ???????????????????? ????????????. ???????????????????????? ???????????????????? ???????????????????????????????????????????????????????? ???????????????????? ???????????????????????????? & ???????????????????????????? ????????????????????????????????????. ????????????????????????
URL:https://smpit.al-auliya.sch.id/event/rapat-kerja-guru-smpit-al-auliya-balikpapan/
CATEGORIES:AGENDA
END:VEVENT
END:VCALENDAR