BEGIN:VCALENDAR
VERSION:2.0
PRODID:-//SMPIT Al Auliya Balikpapan - ECPv6.3.4//NONSGML v1.0//EN
CALSCALE:GREGORIAN
METHOD:PUBLISH
X-WR-CALNAME:SMPIT Al Auliya Balikpapan
X-ORIGINAL-URL:https://smpit.al-auliya.sch.id
X-WR-CALDESC:Events for SMPIT Al Auliya Balikpapan
REFRESH-INTERVAL;VALUE=DURATION:PT1H
X-Robots-Tag:noindex
X-PUBLISHED-TTL:PT1H
BEGIN:VTIMEZONE
TZID:Asia/Shanghai
BEGIN:STANDARD
TZOFFSETFROM:+0800
TZOFFSETTO:+0800
TZNAME:CST
DTSTART:20210101T000000
END:STANDARD
END:VTIMEZONE
BEGIN:VEVENT
DTSTART;TZID=Asia/Shanghai:20221219T080000
DTEND;TZID=Asia/Shanghai:20230101T170000
DTSTAMP:20260423T002239
CREATED:20221210T023937Z
LAST-MODIFIED:20221210T024004Z
UID:5426-1671436800-1672592400@smpit.al-auliya.sch.id
SUMMARY:Libur Semester Tahun Pelajaran 2022/2023
DESCRIPTION:
URL:https://smpit.al-auliya.sch.id/event/libur-semester-tahun-pelajaran-2022-2023/
CATEGORIES:PENGUMUMAN
END:VEVENT
BEGIN:VEVENT
DTSTART;TZID=Asia/Shanghai:20210817T080000
DTEND;TZID=Asia/Shanghai:20210817T170000
DTSTAMP:20260423T002239
CREATED:20210130T021327Z
LAST-MODIFIED:20210130T021408Z
UID:5354-1629187200-1629219600@smpit.al-auliya.sch.id
SUMMARY:Hari Ulang Tahun RI Ke-75
DESCRIPTION:Siswa memakai seragam merah putih
URL:https://smpit.al-auliya.sch.id/event/hari-ulang-tahun-ri-ke-75/
CATEGORIES:PENGUMUMAN
END:VEVENT
BEGIN:VEVENT
DTSTART;TZID=Asia/Shanghai:20210125T080000
DTEND;TZID=Asia/Shanghai:20210125T170000
DTSTAMP:20260423T002239
CREATED:20210118T070529Z
LAST-MODIFIED:20210118T070529Z
UID:5257-1611561600-1611594000@smpit.al-auliya.sch.id
SUMMARY:Hari Minggu Libur
DESCRIPTION:
URL:https://smpit.al-auliya.sch.id/event/hari-minggu-libur/
CATEGORIES:PENGUMUMAN
END:VEVENT
END:VCALENDAR