BEGIN:VCALENDAR
VERSION:2.0
PRODID:-//SMPIT Al Auliya Balikpapan - ECPv6.3.4//NONSGML v1.0//EN
CALSCALE:GREGORIAN
METHOD:PUBLISH
X-WR-CALNAME:SMPIT Al Auliya Balikpapan
X-ORIGINAL-URL:https://smpit.al-auliya.sch.id
X-WR-CALDESC:Events for SMPIT Al Auliya Balikpapan
REFRESH-INTERVAL;VALUE=DURATION:PT1H
X-Robots-Tag:noindex
X-PUBLISHED-TTL:PT1H
BEGIN:VTIMEZONE
TZID:Asia/Shanghai
BEGIN:STANDARD
TZOFFSETFROM:+0800
TZOFFSETTO:+0800
TZNAME:CST
DTSTART:20210101T000000
END:STANDARD
END:VTIMEZONE
BEGIN:VEVENT
DTSTART;TZID=Asia/Shanghai:20240103T100000
DTEND;TZID=Asia/Shanghai:20240107T220000
DTSTAMP:20260423T064729
CREATED:20240104T155412Z
LAST-MODIFIED:20240104T155520Z
UID:5573-1704276000-1704664800@smpit.al-auliya.sch.id
SUMMARY:Pameran Pendidikan Gembyar BKPAKSI
DESCRIPTION:???????????????????????????????? ???????????? ???????????????????????????????? ???????????????????????????????? ???????????????????????????? ???????????????? ???????????????????? ???????????????????????????????? ???????? 1 ???????????????? ????????????????????????‼️ \n???????????????? ???????????????????? ???????? ???????????????????????? ???????????????????????????????????????? ???????????????????? ???????????????????????????????????? ????????????????/????????????????‼️\n⭐ ???????????????????????????????????????????? ???????????????????????? ????????????????:\nhttp://bit.ly/masukauliya\n???????????????? ????????????????????????????????????????????\n???? : Bu Icha wa.me/6285820777417\n???? : Bu Tia wa.me/6281513487300 (admin Boarding)\n➖➖➖➖➖➖➖➖➖➖➖\nFollow Us On: \n▪︎Official Ig : smpitalauliya_bpn\n▪︎Facebook : Smpit Al Auliya Bpn\n▪︎Instagram : auliyaboarding
URL:https://smpit.al-auliya.sch.id/event/pameran-pendidikan-gembyar-bkpaksi/
CATEGORIES:AGENDA
END:VEVENT
BEGIN:VEVENT
DTSTART;TZID=Asia/Shanghai:20231228T080000
DTEND;TZID=Asia/Shanghai:20231230T150000
DTSTAMP:20260423T064729
CREATED:20240104T155814Z
LAST-MODIFIED:20240104T155825Z
UID:5576-1703750400-1703948400@smpit.al-auliya.sch.id
SUMMARY:Rapat Kerja Guru SMPIT AL Auliya Balikpapan
DESCRIPTION:????????????????????????????????????????????????????\, ???????????????????? ???????????????????????????????????????? ???????????????????? ???????????????? ???????????????????????????????? ???????? ???????????????????????? ???????????????????????????????????????? ???????????????????????????????? ????????????????????????????-???????????????????????????? ???????????????????????????????? ???????????????? ???????????????? ???????????????????????????????? ???????? ???????????????????????????????? ???????????????????? ????????????. ???????????????????????? ???????????????????? ???????????????????????????????????????????????????????? ???????????????????? ???????????????????????????? & ???????????????????????????? ????????????????????????????????????. ????????????????????????
URL:https://smpit.al-auliya.sch.id/event/rapat-kerja-guru-smpit-al-auliya-balikpapan/
CATEGORIES:AGENDA
END:VEVENT
BEGIN:VEVENT
DTSTART;TZID=Asia/Shanghai:20231216T080000
DTEND;TZID=Asia/Shanghai:20231216T110000
DTSTAMP:20260423T064729
CREATED:20240104T160000Z
LAST-MODIFIED:20240104T160040Z
UID:5578-1702713600-1702724400@smpit.al-auliya.sch.id
SUMMARY:Pengambilan Raport Semester Ganjil
DESCRIPTION:
URL:https://smpit.al-auliya.sch.id/event/%f0%9d%97%a3%f0%9d%97%b2%f0%9d%97%bb%f0%9d%97%b4%f0%9d%97%ae%f0%9d%97%ba%f0%9d%97%af%f0%9d%97%b6%f0%9d%97%b9%f0%9d%97%ae%f0%9d%97%bb-%f0%9d%97%a5%f0%9d%97%ae%f0%9d%97%bd%f0%9d%97%bc%f0%9d%97%bf/
CATEGORIES:AGENDA
END:VEVENT
BEGIN:VEVENT
DTSTART;TZID=Asia/Shanghai:20231206T080000
DTEND;TZID=Asia/Shanghai:20231212T140000
DTSTAMP:20260423T064729
CREATED:20240104T160343Z
LAST-MODIFIED:20240104T160428Z
UID:5582-1701849600-1702389600@smpit.al-auliya.sch.id
SUMMARY:OSIS SPAYA Proudly Present Class
DESCRIPTION:
URL:https://smpit.al-auliya.sch.id/event/%f0%9d%97%a2%f0%9d%97%a6%f0%9d%97%9c%f0%9d%97%a6-%f0%9d%97%a6%f0%9d%97%a3%f0%9d%97%94%f0%9d%97%ac%f0%9d%97%94-%f0%9d%97%a3%f0%9d%97%a5%f0%9d%97%a2%f0%9d%97%a8%f0%9d%97%97%f0%9d%97%9f%f0%9d%97%ac/
CATEGORIES:AGENDA
END:VEVENT
BEGIN:VEVENT
DTSTART;TZID=Asia/Shanghai:20221219T080000
DTEND;TZID=Asia/Shanghai:20230101T170000
DTSTAMP:20260423T064729
CREATED:20221210T023937Z
LAST-MODIFIED:20221210T024004Z
UID:5426-1671436800-1672592400@smpit.al-auliya.sch.id
SUMMARY:Libur Semester Tahun Pelajaran 2022/2023
DESCRIPTION:
URL:https://smpit.al-auliya.sch.id/event/libur-semester-tahun-pelajaran-2022-2023/
CATEGORIES:PENGUMUMAN
END:VEVENT
BEGIN:VEVENT
DTSTART;TZID=Asia/Shanghai:20210817T080000
DTEND;TZID=Asia/Shanghai:20210817T170000
DTSTAMP:20260423T064729
CREATED:20210130T021327Z
LAST-MODIFIED:20210130T021408Z
UID:5354-1629187200-1629219600@smpit.al-auliya.sch.id
SUMMARY:Hari Ulang Tahun RI Ke-75
DESCRIPTION:Siswa memakai seragam merah putih
URL:https://smpit.al-auliya.sch.id/event/hari-ulang-tahun-ri-ke-75/
CATEGORIES:PENGUMUMAN
END:VEVENT
BEGIN:VEVENT
DTSTART;TZID=Asia/Shanghai:20210218T080000
DTEND;TZID=Asia/Shanghai:20210218T170000
DTSTAMP:20260423T064729
CREATED:20210122T055339Z
LAST-MODIFIED:20210122T055339Z
UID:5285-1613635200-1613667600@smpit.al-auliya.sch.id
SUMMARY:Ujian Tengah Semester
DESCRIPTION:
URL:https://smpit.al-auliya.sch.id/event/ujian-tengah-semester/
CATEGORIES:AGENDA
END:VEVENT
BEGIN:VEVENT
DTSTART;TZID=Asia/Shanghai:20210125T080000
DTEND;TZID=Asia/Shanghai:20210125T170000
DTSTAMP:20260423T064729
CREATED:20210118T070529Z
LAST-MODIFIED:20210118T070529Z
UID:5257-1611561600-1611594000@smpit.al-auliya.sch.id
SUMMARY:Hari Minggu Libur
DESCRIPTION:
URL:https://smpit.al-auliya.sch.id/event/hari-minggu-libur/
CATEGORIES:PENGUMUMAN
END:VEVENT
BEGIN:VEVENT
DTSTART;TZID=Asia/Shanghai:20210125T080000
DTEND;TZID=Asia/Shanghai:20210125T170000
DTSTAMP:20260423T064729
CREATED:20210118T064028Z
LAST-MODIFIED:20210118T065608Z
UID:5248-1611561600-1611594000@smpit.al-auliya.sch.id
SUMMARY:Upacara hari Senin
DESCRIPTION:
URL:https://smpit.al-auliya.sch.id/event/upacara-hari-senin/
CATEGORIES:AGENDA
END:VEVENT
END:VCALENDAR